BEGIN:VCALENDAR
VERSION:2.0
PRODID:-//Railway Age - ECPv6.15.18//NONSGML v1.0//EN
CALSCALE:GREGORIAN
METHOD:PUBLISH
X-ORIGINAL-URL:https://www.old.railwayage.com
X-WR-CALDESC:Events for Railway Age
REFRESH-INTERVAL;VALUE=DURATION:PT1H
X-Robots-Tag:noindex
X-PUBLISHED-TTL:PT1H
BEGIN:VTIMEZONE
TZID:America/New_York
BEGIN:DAYLIGHT
TZOFFSETFROM:-0500
TZOFFSETTO:-0400
TZNAME:EDT
DTSTART:20220313T070000
END:DAYLIGHT
BEGIN:STANDARD
TZOFFSETFROM:-0400
TZOFFSETTO:-0500
TZNAME:EST
DTSTART:20221106T060000
END:STANDARD
BEGIN:DAYLIGHT
TZOFFSETFROM:-0500
TZOFFSETTO:-0400
TZNAME:EDT
DTSTART:20230312T070000
END:DAYLIGHT
BEGIN:STANDARD
TZOFFSETFROM:-0400
TZOFFSETTO:-0500
TZNAME:EST
DTSTART:20231105T060000
END:STANDARD
BEGIN:DAYLIGHT
TZOFFSETFROM:-0500
TZOFFSETTO:-0400
TZNAME:EDT
DTSTART:20240310T070000
END:DAYLIGHT
BEGIN:STANDARD
TZOFFSETFROM:-0400
TZOFFSETTO:-0500
TZNAME:EST
DTSTART:20241103T060000
END:STANDARD
END:VTIMEZONE
BEGIN:VEVENT
DTSTART;TZID=America/New_York:20230918T080000
DTEND;TZID=America/New_York:20230920T170000
DTSTAMP:20260421T034110
CREATED:20230417T162001Z
LAST-MODIFIED:20230602T200448Z
UID:123278-1695024000-1695229200@www.old.railwayage.com
SUMMARY:2023 Commuter Rail Summit
DESCRIPTION:The Commuter Rail Coalition (CRC) reports: Join thought leaders\, policymakers and stakeholders from across the industry as the CRC convenes the 2023 Commuter Rail Summit. The CRC Summit is an opportunity to connect with industry peers\, explore first-hand the progress of two massive new starts projects\, marvel over the process that’s rehabbing Metra’s railcars and locomotives\, and collaborate over today’s most pressing commuter rail issues. \nJoin CRC in Chicago September 18-20\, 2023 for a series of roundtable discussions\, fireside chats with industry leaders\, technical tours\, and next-level networking to prepare for both the challenges and the unprecedented opportunities awaiting commuter railroads. \n• Learn from subject matter experts from across the industry and beyond. \n• Build your network. \n• Celebrate industry icons. \n• And challenge the paradigm. \nEVENT REGISTRATION  \nRegistration will be limited to 200. Non-members may register on a space-available basis.
URL:https://www.old.railwayage.com/event/2023-commuter-rail-summit/
LOCATION:InterContinental Hotel\, 505 N. Michigan Avenue\, Chicago\, IL\, 60611\, United States
CATEGORIES:Industry Events
ORGANIZER;CN="Commuter Rail Coalition":MAILTO:ADMIN@CommuterRailCoalition.org
END:VEVENT
BEGIN:VEVENT
DTSTART;TZID=America/New_York:20230927T080000
DTEND;TZID=America/New_York:20230928T170000
DTSTAMP:20260421T034110
CREATED:20220612T174100Z
LAST-MODIFIED:20230607T194941Z
UID:98527-1695801600-1695920400@www.old.railwayage.com
SUMMARY:SWARS 2023 Semi-Annual Meeting
DESCRIPTION:Southwest Association of Rail Shippers: \n\nThe Southwest Association of Rail Shippers territory includes the Republic of Mexico and the states of Arizona\, Arkansas\, Southern California (from and including Fresno and points South thereof)\, Colorado\, Kansas\, New Mexico\, Oklahoma\, Texas and Utah. \nThe objective of the association is to provide an open forum for railroads and shippers to meet and discuss matters of mutual interest. Topics include\, but are not limited to\, service\, car supply\, scheduling\, operating practices\, technology\, etc. Meetings are held twice a year in the spring and fall at varying locations in the territory. \n\nMark your calendars to join SWARS for the 2023 Semi-Annual Meeting on September 27-28\, 2023 in San Diego. SWARS says it is planning a great line up of speakers and some exciting special events! Look for Registration to open mid to late June!
URL:https://www.old.railwayage.com/event/swars-2022-semi-annual-meeting/
LOCATION:San Diego\, Calif.\, San Diego\, CA\, United States
CATEGORIES:Industry Events
ORGANIZER;CN="SWARS":MAILTO:swars@swrailshippers.com
END:VEVENT
END:VCALENDAR