BEGIN:VCALENDAR
VERSION:2.0
PRODID:-//Railway Age - ECPv6.15.18//NONSGML v1.0//EN
CALSCALE:GREGORIAN
METHOD:PUBLISH
X-WR-CALNAME:Railway Age
X-ORIGINAL-URL:https://www.old.railwayage.com
X-WR-CALDESC:Events for Railway Age
REFRESH-INTERVAL;VALUE=DURATION:PT1H
X-Robots-Tag:noindex
X-PUBLISHED-TTL:PT1H
BEGIN:VTIMEZONE
TZID:America/New_York
BEGIN:DAYLIGHT
TZOFFSETFROM:-0500
TZOFFSETTO:-0400
TZNAME:EDT
DTSTART:20220313T070000
END:DAYLIGHT
BEGIN:STANDARD
TZOFFSETFROM:-0400
TZOFFSETTO:-0500
TZNAME:EST
DTSTART:20221106T060000
END:STANDARD
BEGIN:DAYLIGHT
TZOFFSETFROM:-0500
TZOFFSETTO:-0400
TZNAME:EDT
DTSTART:20230312T070000
END:DAYLIGHT
BEGIN:STANDARD
TZOFFSETFROM:-0400
TZOFFSETTO:-0500
TZNAME:EST
DTSTART:20231105T060000
END:STANDARD
BEGIN:DAYLIGHT
TZOFFSETFROM:-0500
TZOFFSETTO:-0400
TZNAME:EDT
DTSTART:20240310T070000
END:DAYLIGHT
BEGIN:STANDARD
TZOFFSETFROM:-0400
TZOFFSETTO:-0500
TZNAME:EST
DTSTART:20241103T060000
END:STANDARD
END:VTIMEZONE
BEGIN:VEVENT
DTSTART;TZID=America/New_York:20230612T080000
DTEND;TZID=America/New_York:20230615T170000
DTSTAMP:20260423T060251
CREATED:20230607T193817Z
LAST-MODIFIED:20230607T194047Z
UID:128016-1686556800-1686848400@www.old.railwayage.com
SUMMARY:AAR 2023 Damage Prevention & Freight Claim Conference
DESCRIPTION:The 130th Damage Prevention & Freight Claim Conference is an annual event to gain knowledge\, network\, and share experiences in the rail freight damage prevention industry. \nLearn more about all the opportunities to participate in this industry event: \n—Check out the current agenda and speaker information\n—Register for the conference and technical workshops\n—Learn about the annual Golf Tournament and Guest Activity and Tour
URL:https://www.old.railwayage.com/event/aar-2023-damage-prevention-freight-claim-conference/
LOCATION:Omni Scottsdale Resort & Spa at Montelucia\, 4949 East Lincoln Drive\, Scottsdale\, AZ\, 85253\, United States
CATEGORIES:Industry Events
END:VEVENT
BEGIN:VEVENT
DTSTART;TZID=America/New_York:20230620T080000
DTEND;TZID=America/New_York:20230621T170000
DTSTAMP:20260423T060251
CREATED:20230601T193140Z
LAST-MODIFIED:20230601T193542Z
UID:127603-1687248000-1687366800@www.old.railwayage.com
SUMMARY:TRACCS Rail Day 2023
DESCRIPTION:Canada’s Indoor/Outdoor Transit and Rail Exhibition by TRACCS\, a non-profit association of contractors\, operators and maintainers in rail\, OCS\, signal construction\, and communication systems. One of TRACCS’ founding goals is to create a platform for collaboration and development in the areas that present challenges in our industry: introducing innovation\, setting standards\, fostering safety\, sustainability and cost-efficiency. \nTRACCS Rail Day speakers will address some of our collective concerns in these two full days of talks\, workshops\, roundtables and presentations. \nAttend workshops on National Standards facilitated by CSA Group\, presentations and panels on women in rail\, diversity in the rail workforce\, railway assurances\, rail consortiums\, training and worker safety\, digitalization\, mapping utilities\, complexities and challenges of completing large infrastructure projects\, and lessons learned from major projects. \nKeynote Speaker: Rick Leary\, CEO of the Toronto Transit Commission (TTC)
URL:https://www.old.railwayage.com/event/traccs-rail-day-2023/
LOCATION:The International Center\, 6900 Airport Road\, Mississauga\, Ontario\, L4V 1E8\, Canada
CATEGORIES:Industry Events
ORGANIZER;CN="TRACCS":MAILTO:info@traccs.ca
END:VEVENT
END:VCALENDAR