BEGIN:VCALENDAR
VERSION:2.0
PRODID:-//Railway Age - ECPv6.15.18//NONSGML v1.0//EN
CALSCALE:GREGORIAN
METHOD:PUBLISH
X-ORIGINAL-URL:https://www.old.railwayage.com
X-WR-CALDESC:Events for Railway Age
REFRESH-INTERVAL;VALUE=DURATION:PT1H
X-Robots-Tag:noindex
X-PUBLISHED-TTL:PT1H
BEGIN:VTIMEZONE
TZID:America/New_York
BEGIN:DAYLIGHT
TZOFFSETFROM:-0500
TZOFFSETTO:-0400
TZNAME:EDT
DTSTART:20210314T070000
END:DAYLIGHT
BEGIN:STANDARD
TZOFFSETFROM:-0400
TZOFFSETTO:-0500
TZNAME:EST
DTSTART:20211107T060000
END:STANDARD
BEGIN:DAYLIGHT
TZOFFSETFROM:-0500
TZOFFSETTO:-0400
TZNAME:EDT
DTSTART:20220313T070000
END:DAYLIGHT
BEGIN:STANDARD
TZOFFSETFROM:-0400
TZOFFSETTO:-0500
TZNAME:EST
DTSTART:20221106T060000
END:STANDARD
BEGIN:DAYLIGHT
TZOFFSETFROM:-0500
TZOFFSETTO:-0400
TZNAME:EDT
DTSTART:20230312T070000
END:DAYLIGHT
BEGIN:STANDARD
TZOFFSETFROM:-0400
TZOFFSETTO:-0500
TZNAME:EST
DTSTART:20231105T060000
END:STANDARD
END:VTIMEZONE
BEGIN:VEVENT
DTSTART;TZID=America/New_York:20221101T080000
DTEND;TZID=America/New_York:20221102T170000
DTSTAMP:20260423T194939
CREATED:20221031T172232Z
LAST-MODIFIED:20221031T173007Z
UID:110647-1667289600-1667408400@www.old.railwayage.com
SUMMARY:CARS National Railway Day 2022
DESCRIPTION:The Canadian Association of Railway Suppliers’ National Railway Day 2022 will take place on November 1-2\, 2022 at Hyatt Regency in Calgary\, Alberta! \nThe theme for this year’s conference will be “Building the Future of Rail.” Day 1 has a focus on the people who are the future of the industry\, and Day 2 will look at what the industry holds in sustainability\, safety and innovation. \nSpeakers include: \nJustin Meyer\, Senior VP of Engineering and Mechanical\, CP\nRob Brooker\, CEO\, Trigon Pacific\nBrent Laing\, VP of Engineering\, CN\nKevin Lawrence\, CEO/Entrepreneur\, Coach\, & President\, Lawrence & Co.\nand more! \nAgenda: \nDay 1 – November 1st\, 2022 \nTank Car Principles Seminar\nRailTank Scholarship Pitches\nOpening Ceremony & Keynote Speaker\nJob Fair & Tradeshow Exhibition \nDay 2 – November 2nd\, 2022 \nPancake Breakfast\nSpeaker Series\nPorts and Shippers Panel\nSafetyZone\nTradeshow Exhibition\nEvening Reception & Gala Dinner
URL:https://www.old.railwayage.com/event/cars-national-railway-day-2022/
LOCATION:Hyatt Regency Calgary\, 700 Centre Street SE\, Calgary\, Alberta\, T2G 5P6\, Canada
CATEGORIES:Industry Events
ORGANIZER;CN="The Canadian Association of Railway Suppliers":MAILTO:info@railwaysuppliers.ca
END:VEVENT
BEGIN:VEVENT
DTSTART;TZID=America/New_York:20221114T080000
DTEND;TZID=America/New_York:20221116T170000
DTSTAMP:20260423T194939
CREATED:20221004T184815Z
LAST-MODIFIED:20221004T184815Z
UID:108658-1668412800-1668618000@www.old.railwayage.com
SUMMARY:CRC Commuter Rail Summit
DESCRIPTION:Join thought leaders\, policymakers and stakeholders from across the commuter rail industry as the Commuter Rail Coalition (CRC) convenes the first annual CRC Summit in San Jose\, Calif. The CRC Summit will provide participants with an opportunity to re-connect with industry peers\, explore the Caltrain corridor’s first-of-its-kind electrification project\, and collaborate over today’s most pressing commuter railroad issues. \nJoin CRC for a series of roundtable discussions\, fireside chats with industry leaders\, and technical tours to prepare for both the challenges and the unprecedented opportunities our industry will encounter in the year ahead. \nWHO should attend: \n· Agency CEOs\, Deputies\, CXOs \n· Operations\, Safety\, Labor Relations\, Marketing\, and Public/Government Affairs team members \n· OEMs\, suppliers\, consultants\, and contractors working with commuter railroads \nREGISTRATION:   \nCRC Members: $425 before October 21/then $500 until November 6 \nNon Members: As capacity allows: $650.\nInquire at admin@CommuterRailCoalition.org \nAll registrations must be submitted in advance.  Due to capacity constraints there will be no on-site registration for this event.
URL:https://www.old.railwayage.com/event/crc-commuter-rail-summit/
LOCATION:San Jose Marriott\, South Market Street\, San Jose\, CA\, 95113\, United States
CATEGORIES:Industry Events
ORGANIZER;CN="Commuter Rail Coalition":MAILTO:ADMIN@CommuterRailCoalition.org
END:VEVENT
BEGIN:VEVENT
DTSTART;VALUE=DATE:20221116
DTEND;VALUE=DATE:20221120
DTSTAMP:20260423T194939
CREATED:20221114T151022Z
LAST-MODIFIED:20221114T151022Z
UID:111530-1668556800-1668902399@www.old.railwayage.com
SUMMARY:National League of Cities City Summit
DESCRIPTION:Mark your calendar! This November we’re headed to Kansas City\, Mo. to highlight how cities are leading the future. \nOur communities depend on forward-thinking leaders to take bold action to build a brighter future. We’ll share with peers\, public and private sector stakeholders and subject matter experts how to best use impact\, action and service as tools for a better tomorrow. \nSee you soon at City Summit 2022!
URL:https://www.old.railwayage.com/event/national-league-of-cities-city-summit/
LOCATION:Kansas City Convention Center\, 301 W 13th St #100\, Kansas City\, MO\, 64105\, United States
CATEGORIES:Industry Events
END:VEVENT
END:VCALENDAR